BEGIN:VCALENDAR
VERSION:2.0
PRODID:-//Schweiger Ranch - ECPv6.15.18//NONSGML v1.0//EN
CALSCALE:GREGORIAN
METHOD:PUBLISH
X-WR-CALNAME:Schweiger Ranch
X-ORIGINAL-URL:https://schweigerranch.org
X-WR-CALDESC:Events for Schweiger Ranch
REFRESH-INTERVAL;VALUE=DURATION:PT1H
X-Robots-Tag:noindex
X-PUBLISHED-TTL:PT1H
BEGIN:VTIMEZONE
TZID:America/Denver
BEGIN:DAYLIGHT
TZOFFSETFROM:-0700
TZOFFSETTO:-0600
TZNAME:MDT
DTSTART:20230312T090000
END:DAYLIGHT
BEGIN:STANDARD
TZOFFSETFROM:-0600
TZOFFSETTO:-0700
TZNAME:MST
DTSTART:20231105T080000
END:STANDARD
BEGIN:DAYLIGHT
TZOFFSETFROM:-0700
TZOFFSETTO:-0600
TZNAME:MDT
DTSTART:20240310T090000
END:DAYLIGHT
BEGIN:STANDARD
TZOFFSETFROM:-0600
TZOFFSETTO:-0700
TZNAME:MST
DTSTART:20241103T080000
END:STANDARD
BEGIN:DAYLIGHT
TZOFFSETFROM:-0700
TZOFFSETTO:-0600
TZNAME:MDT
DTSTART:20250309T090000
END:DAYLIGHT
BEGIN:STANDARD
TZOFFSETFROM:-0600
TZOFFSETTO:-0700
TZNAME:MST
DTSTART:20251102T080000
END:STANDARD
END:VTIMEZONE
BEGIN:VEVENT
DTSTART;TZID=America/Denver:20240816T183000
DTEND;TZID=America/Denver:20240816T200000
DTSTAMP:20260420T213111
CREATED:20240315T020438Z
LAST-MODIFIED:20240710T005056Z
UID:10000051-1723833000-1723838400@schweigerranch.org
SUMMARY:Campfire Series: Ranger Trey | Registration Required
DESCRIPTION:Join Schweiger Ranch and Pam’s EcoAdventures for an hour of fun activities programmed for kids but fun for the whole family! Learn what life was like for children growing up on the homestead in the 1800’s and early 1900’s. \nParents or guardians must be present with kids. This event will be held outdoors and may be modified or cancelled due to severe weather. Should the event be cancelled\, notifications will be sent to the email used to register for the event. \n  \nRegistrations ends on August 14th
URL:https://schweigerranch.org/event/campfire-series-ranger-trey/
LOCATION:Schweiger Ranch\, 10822 S. Havana St.\, Lone Tree\, CO\, 80134\, United States
CATEGORIES:Campfire Events
ATTACH;FMTTYPE=image/jpeg:https://schweigerranch.org/wp-content/uploads/2024/03/Work-Play_8-16-24.jpg
ORGANIZER;CN="Schweiger Ranch":MAILTO:info@schweigerranch.org
END:VEVENT
END:VCALENDAR